BEGIN:VCALENDAR
VERSION:2.0
PRODID:-//Shuswap Cycling Club - ECPv6.15.20//NONSGML v1.0//EN
CALSCALE:GREGORIAN
METHOD:PUBLISH
X-WR-CALNAME:Shuswap Cycling Club
X-ORIGINAL-URL:https://shuswapbike.com
X-WR-CALDESC:Events for Shuswap Cycling Club
REFRESH-INTERVAL;VALUE=DURATION:PT1H
X-Robots-Tag:noindex
X-PUBLISHED-TTL:PT1H
BEGIN:VTIMEZONE
TZID:America/Vancouver
BEGIN:DAYLIGHT
TZOFFSETFROM:-0800
TZOFFSETTO:-0700
TZNAME:PDT
DTSTART:20240310T100000
END:DAYLIGHT
BEGIN:STANDARD
TZOFFSETFROM:-0700
TZOFFSETTO:-0800
TZNAME:PST
DTSTART:20241103T090000
END:STANDARD
BEGIN:DAYLIGHT
TZOFFSETFROM:-0800
TZOFFSETTO:-0700
TZNAME:PDT
DTSTART:20250309T100000
END:DAYLIGHT
BEGIN:STANDARD
TZOFFSETFROM:-0700
TZOFFSETTO:-0800
TZNAME:PST
DTSTART:20251102T090000
END:STANDARD
BEGIN:DAYLIGHT
TZOFFSETFROM:-0800
TZOFFSETTO:-0700
TZNAME:PDT
DTSTART:20260308T100000
END:DAYLIGHT
BEGIN:STANDARD
TZOFFSETFROM:-0700
TZOFFSETTO:-0800
TZNAME:PST
DTSTART:20261101T090000
END:STANDARD
BEGIN:DAYLIGHT
TZOFFSETFROM:-0800
TZOFFSETTO:-0700
TZNAME:PDT
DTSTART:20270314T100000
END:DAYLIGHT
BEGIN:STANDARD
TZOFFSETFROM:-0700
TZOFFSETTO:-0800
TZNAME:PST
DTSTART:20271107T090000
END:STANDARD
END:VTIMEZONE
BEGIN:VEVENT
DTSTART;TZID=America/Vancouver:20250506T173000
DTEND;TZID=America/Vancouver:20250506T190000
DTSTAMP:20260421T014742
CREATED:20250309T170053Z
LAST-MODIFIED:20250309T170053Z
UID:14513-1746552600-1746558000@shuswapbike.com
SUMMARY:SCC Youth Ride
DESCRIPTION:Participants keep an eye on your email for changes due to weather etc.
URL:https://shuswapbike.com/event/scc-youth-ride-4/
LOCATION:South Canoe Trails\, 10th Ave SE and 70th St SE\, Salmon Arm\, British Columbia\, V1E 1X8\, Canada
CATEGORIES:Group Rides
END:VEVENT
BEGIN:VEVENT
DTSTART;TZID=America/Vancouver:20250509T180000
DTEND;TZID=America/Vancouver:20250509T200000
DTSTAMP:20260421T014742
CREATED:20250309T164733Z
LAST-MODIFIED:20250309T164734Z
UID:14501-1746813600-1746820800@shuswapbike.com
SUMMARY:Salty Dog Social Ride
DESCRIPTION:Social ride for early-arrivals\, club members\, industry reps and sponsors. Head over to https://saltydogenduro.com for all the latest.
URL:https://shuswapbike.com/event/salty-dog-social-ride-2/
LOCATION:South Canoe Trails\, 10th Ave SE and 70th St SE\, Salmon Arm\, British Columbia\, V1E 1X8\, Canada
CATEGORIES:Group Rides
ATTACH;FMTTYPE=image/png:https://shuswapbike.com/wp-content/uploads/SaltyDog_Logo_2020.png
END:VEVENT
BEGIN:VEVENT
DTSTART;VALUE=DATE:20250510
DTEND;VALUE=DATE:20250512
DTSTAMP:20260421T014742
CREATED:20250309T164945Z
LAST-MODIFIED:20250309T165212Z
UID:14503-1746878400-1746964799@shuswapbike.com
SUMMARY:Salty Dog Registration and Package Pickup
DESCRIPTION:Mandatory package pickup for Salty Dog Enduro! Head over to https://saltydogenduro.com for all the latest.
URL:https://shuswapbike.com/event/salty-dog-registration-and-package-pickup/
LOCATION:Skookum Bike and Ski\, 141 Shuswap St. NE\, Salmon Arm\, BC\, Canada
CATEGORIES:Races
ATTACH;FMTTYPE=image/png:https://shuswapbike.com/wp-content/uploads/SaltyDog_Logo_2020.png
END:VEVENT
BEGIN:VEVENT
DTSTART;VALUE=DATE:20250511
DTEND;VALUE=DATE:20250513
DTSTAMP:20260421T014742
CREATED:20250309T164451Z
LAST-MODIFIED:20250309T164514Z
UID:14497-1746964800-1747051199@shuswapbike.com
SUMMARY:Salty Dog Enduro 2025
DESCRIPTION:The one and only Salty Dog Enduro! Head over to https://saltydogenduro.com for all the latest.
URL:https://shuswapbike.com/event/salty-dog-enduro-2025/
LOCATION:South Canoe Trails\, 10th Ave SE and 70th St SE\, Salmon Arm\, British Columbia\, V1E 1X8\, Canada
CATEGORIES:Races
ATTACH;FMTTYPE=image/png:https://shuswapbike.com/wp-content/uploads/SaltyDog_Logo_2020.png
END:VEVENT
BEGIN:VEVENT
DTSTART;TZID=America/Vancouver:20250513T173000
DTEND;TZID=America/Vancouver:20250513T190000
DTSTAMP:20260421T014742
CREATED:20250309T170152Z
LAST-MODIFIED:20250309T170152Z
UID:14515-1747157400-1747162800@shuswapbike.com
SUMMARY:SCC Youth Ride
DESCRIPTION:Participants keep an eye on your email for changes due to weather etc.
URL:https://shuswapbike.com/event/scc-youth-ride-5/
LOCATION:South Canoe Trails\, 10th Ave SE and 70th St SE\, Salmon Arm\, British Columbia\, V1E 1X8\, Canada
CATEGORIES:Group Rides
END:VEVENT
BEGIN:VEVENT
DTSTART;TZID=America/Vancouver:20250520T173000
DTEND;TZID=America/Vancouver:20250520T190000
DTSTAMP:20260421T014742
CREATED:20250309T170240Z
LAST-MODIFIED:20250309T170240Z
UID:14517-1747762200-1747767600@shuswapbike.com
SUMMARY:SCC Youth Ride
DESCRIPTION:Participants keep an eye on your email for changes due to weather etc.
URL:https://shuswapbike.com/event/scc-youth-ride-6/
LOCATION:South Canoe Trails\, 10th Ave SE and 70th St SE\, Salmon Arm\, British Columbia\, V1E 1X8\, Canada
CATEGORIES:Group Rides
END:VEVENT
BEGIN:VEVENT
DTSTART;TZID=America/Vancouver:20250527T173000
DTEND;TZID=America/Vancouver:20250527T190000
DTSTAMP:20260421T014742
CREATED:20250309T170321Z
LAST-MODIFIED:20250309T170321Z
UID:14519-1748367000-1748372400@shuswapbike.com
SUMMARY:SCC Youth Ride
DESCRIPTION:Participants keep an eye on your email for changes due to weather etc.
URL:https://shuswapbike.com/event/scc-youth-ride-7/
LOCATION:South Canoe Trails\, 10th Ave SE and 70th St SE\, Salmon Arm\, British Columbia\, V1E 1X8\, Canada
CATEGORIES:Group Rides
END:VEVENT
BEGIN:VEVENT
DTSTART;TZID=America/Vancouver:20250603T173000
DTEND;TZID=America/Vancouver:20250603T190000
DTSTAMP:20260421T014742
CREATED:20250309T170420Z
LAST-MODIFIED:20250309T170420Z
UID:14521-1748971800-1748977200@shuswapbike.com
SUMMARY:SCC Youth Ride
DESCRIPTION:Participants keep an eye on your email for changes due to weather etc.
URL:https://shuswapbike.com/event/scc-youth-ride-8/
LOCATION:South Canoe Trails\, 10th Ave SE and 70th St SE\, Salmon Arm\, British Columbia\, V1E 1X8\, Canada
CATEGORIES:Group Rides
END:VEVENT
BEGIN:VEVENT
DTSTART;TZID=America/Vancouver:20250610T173000
DTEND;TZID=America/Vancouver:20250610T190000
DTSTAMP:20260421T014742
CREATED:20250309T170514Z
LAST-MODIFIED:20250309T170514Z
UID:14523-1749576600-1749582000@shuswapbike.com
SUMMARY:SCC Youth Ride
DESCRIPTION:Participants keep an eye on your email for changes due to weather etc.
URL:https://shuswapbike.com/event/scc-youth-ride-9/
LOCATION:South Canoe Trails\, 10th Ave SE and 70th St SE\, Salmon Arm\, British Columbia\, V1E 1X8\, Canada
CATEGORIES:Group Rides
END:VEVENT
BEGIN:VEVENT
DTSTART;TZID=America/Vancouver:20250611T180000
DTEND;TZID=America/Vancouver:20250611T200000
DTSTAMP:20260421T014742
CREATED:20250526T204914Z
LAST-MODIFIED:20250526T204953Z
UID:14591-1749664800-1749672000@shuswapbike.com
SUMMARY:Ladies Bike Maintenance Clinic
DESCRIPTION:Skookum Bike & Ski is hosting a Bike Maintenance Clinic for the Ladies group riders and on Wednesday\, June 11th\, from 6 PM to 8 PM.\n\nThe clinic will be free of charge\, but please call Skookum at 250-832-7368 to sign up or for questions.
URL:https://shuswapbike.com/event/ladies-bike-maintenance-clinic/
LOCATION:Skookum Bike and Ski\, 141 Shuswap St. NE\, Salmon Arm\, BC\, Canada
CATEGORIES:Workshop
ATTACH;FMTTYPE=image/png:https://shuswapbike.com/wp-content/uploads/here-to-there.png
END:VEVENT
BEGIN:VEVENT
DTSTART;TZID=America/Vancouver:20250617T170000
DTEND;TZID=America/Vancouver:20250617T190000
DTSTAMP:20260421T014742
CREATED:20250309T170707Z
LAST-MODIFIED:20250309T170707Z
UID:14527-1750179600-1750186800@shuswapbike.com
SUMMARY:SCC Youth Ride
DESCRIPTION:Participants keep an eye on your email for changes due to weather etc.
URL:https://shuswapbike.com/event/scc-youth-ride-11/
LOCATION:South Canoe Trails\, 10th Ave SE and 70th St SE\, Salmon Arm\, British Columbia\, V1E 1X8\, Canada
CATEGORIES:Group Rides
END:VEVENT
BEGIN:VEVENT
DTSTART;VALUE=DATE:20250621
DTEND;VALUE=DATE:20250623
DTSTAMP:20260421T014742
CREATED:20250309T163729Z
LAST-MODIFIED:20250619T211121Z
UID:14494-1750507200-1750593599@shuswapbike.com
SUMMARY:Rubberhead Enduro 2025
DESCRIPTION:Shuswap Cycling Society Rubberhead Enduro\nSaturday\, June 21st\, 2025 – REGISTRATION NOW OPEN ON ZONE4\nFINAL EVENT INFORMATION\nConfirmation List:\n\n\nCheck that you are in the correct category. Email Us with updates.\nConfirmation List – Rubberhead Enduro 2025 | Zone4.ca\n\n\nDirections:\n\n\n\nRubberhead Recreation Site 2.5 km Parking Area\nFrom Salmon Arm head east on Hwy 1 past the Canoe Forest Products Mill\nTurn right on the 110 FSR.\nUse caution entering/exiting from the Hwy.\n\n\n\nRace Day Schedule (Saturday\, June 21):\n\n\n7:30 – 8:30am Register\, Collect Race Plate and Timing Chip\n8:45am Race Meeting\n9:00am Race Start\n3:00pm Course Close\n3:30pm Awards (latest)\n\n\n\nCourse (click image to open PDF):\n\n\n\n\n\n\nThe Short and Long Courses are also on the 2025 Rubberhead Enduro Trailforks Event Page under the Routes section. \nSTAGE 1:\nClimb road to Double D\, Double D\, Yellow Brick Road\, Veggie Rd\, FSR 110.\nDescend Meatgrinder (as flagged)\, Veggie Delight. \nSTAGE 2:\nClimb 110 FSR to 7km Entrance of Ravine.\nDescend Ravine to just short of FSR 110. \nSTAGE 3 (Long Course Only):\nClimb 110 FSR\, .071 FSR\, Rubberhead Climb\, Yellow Brick Road\, Veggie Road.\nDescend Very Bad Wizard\, Rubberhead DH \nCourse Notes \n\nRiders must follow the race course on climbs and descents or potentially face a penalty.\nPlease pay attention to markings on the roads and familiarize yourself with the course once posted.\nAll riders MUST wear a helmet the entire race\, on climbs and descents – NO EXCEPTIONS.\n\nFirst Aid: Emergency Contact – David Major 250-515-2975\n\n\nAthletes are expected to ride within their abilities.\nPre-ride the main trails at Rubberhead if unfamiliar with the trail system.\nFirst aid will be provided by Shuswap Volunteer Search and Rescue. Thanks for keeping us safe!\nIf you come across an injured rider\, ask if they are okay. If you don’t receive a reply\, STOP.\nIf they need urgent assistance\, call 9-1-1 then the emergency contact.\nFor non-urgent assistance\, call the emergency contact and send the next rider to the aid station. \nYou will be offered a re-run if you stop to assist an injured rider. \n\n\nWater / Food: \n\n\nA water station and some food will be available at the start of Stage 1\, then moved to the start of Stage 3 layer – courtesy of Blind Bay Village Grocer – Thanks!!\nA BBQ will be cooking starting around 11. Racers and volunteers receive a free meal. Others by donation. \n\n\n\nTiming and Race Etiquette:\n\n\nPlease be respectful of all volunteers and other racers.\nStarters must enter your race plate in their device. If you leave without their ok\, you won’t have a time! We are aiming for 30 second intervals but that is at the discretion of the starter – racers can self seed and narrow gaps if they like as long as they communicate with the starter.\nFinishes of the segments will be collected by the chip activators\, so there may not be a volunteer present. The finishes will be well marked though.\nChip timing is accurate and reliable. However it is possible a chip malfunctions. If you have your strava going we can look to use that instead.  \nLost or broken chips = $75 charge\nPlace the chips on your fork stanchion or seat post\, making sure it is secure and does not interfere with any components.\nOvertaking a rider should be done respectfully in a safe area.\nThere will be a few areas where the downhill segment crosses the uphill segment. Please be aware of your surroundings and climbers yield to descenders.\nRide well and have fun!\n\nResults and Awards:\n\n\nRubberhead Enduro 2005 Results on Zone4\nAwards will be announced shortly after the final racers completes.\n\n\nDraw Prizes:\n\n\nWe will be conducting a draw for prizes and will be posted by 1pm. We will have a poster displayed by the timing tent.
URL:https://shuswapbike.com/event/rubberhead-enduro-2025/
LOCATION:Rubberhead Parking Lot
CATEGORIES:Races
ATTACH;FMTTYPE=image/png:https://shuswapbike.com/wp-content/uploads/rh_logo.png
END:VEVENT
BEGIN:VEVENT
DTSTART;TZID=America/Vancouver:20250624T173000
DTEND;TZID=America/Vancouver:20250624T190000
DTSTAMP:20260421T014742
CREATED:20250309T170607Z
LAST-MODIFIED:20250309T170607Z
UID:14525-1750786200-1750791600@shuswapbike.com
SUMMARY:SCC Youth Ride
DESCRIPTION:Participants keep an eye on your email for changes due to weather etc.
URL:https://shuswapbike.com/event/scc-youth-ride-10/
LOCATION:South Canoe Trails\, 10th Ave SE and 70th St SE\, Salmon Arm\, British Columbia\, V1E 1X8\, Canada
END:VEVENT
BEGIN:VEVENT
DTSTART;TZID=America/Vancouver:20250927T090000
DTEND;TZID=America/Vancouver:20250927T170000
DTSTAMP:20260421T014742
CREATED:20250630T182301Z
LAST-MODIFIED:20250816T205607Z
UID:14653-1758963600-1758992400@shuswapbike.com
SUMMARY:Shuswap Cycling Club XC Race
DESCRIPTION:REGISTRATION OPENS Aug 17th on ZONE 4 \nThe 2025 SCC XC is September 27!  \n\nSelf-Supportive Event: The event is self-supportive\, meaning that participants are responsible for their own navigation\, well-being\, and equipment throughout the race. There will be some limited route markings\, mostly through the Larch Hills Nordic Trails. You are responsible to be familiar with the route. The Route can be found on Trailforks. \nCourse Marshals: There are no Course Marshals. If you come across a rider in need please STOP to assist. 911 in case of an injury. \nAid Station: The only Aid Station on route will be at the Rubberhead Parking lot. This will have a limited supply of snacks and water. You are responsible to pack the food you need for this route. \nCourse: Participants are expected to understand the route themselves. This implies that there may not be course marshals or route markers\, so cyclists need to be able to navigate the course independently. \n\nThe Long Course will run from South Canoe to Rubbered using the Ida View Section if the Larch Hills Traverse. From the Top of Rubberhead to the Rubberhead Parking Lot\, then Climb back up DD and assorted trails to the top of Hemlock Glide and through the Larch Hills Nordic Trails to South Canoe. See Trailforks Route\nThe Short Course will skip the decent to the Rubberhead Parking Lot\, Once at the top of the Ida View Trail/top of Hemlock Glide\, riders will make their way back to South Canoe through the Larch Hills Nordic Trails. \n\nCategories: Mens and Womens of the long and short courses\, that’s it.  \nTiming: Old school\, we all leave at the same time and try to keep track of when you get back to South Canoe. \nEbikes: Sure\, fill your boots\, but you are not eligible for any category. \nPrizes: A crisp high 5 and bragging rights. \nAfter Party: There will be Chili and Bannock for all participants.  \nAssessment of Ability: Participants are encouraged to assess their own ability to complete the event.  \nSafety Responsibility: Safety is the responsibility of each participant. This includes having the necessary equipment such as maps\, GPS devices\, food and repair kits to ensure their well-being during the race. Your are required to stop and assist any riders in need along the course.
URL:https://shuswapbike.com/event/shuswap-cycling-club-xc-race/
LOCATION:South Canoe Trails\, 10th Ave SE and 70th St SE\, Salmon Arm\, British Columbia\, V1E 1X8\, Canada
CATEGORIES:Races
END:VEVENT
BEGIN:VEVENT
DTSTART;TZID=America/Vancouver:20251005T080000
DTEND;TZID=America/Vancouver:20251005T170000
DTSTAMP:20260421T014742
CREATED:20250630T181256Z
LAST-MODIFIED:20250812T213019Z
UID:14647-1759651200-1759683600@shuswapbike.com
SUMMARY:Ride Don't Hide
DESCRIPTION:  \nView the Event on TrailForks to see the various distances available.\n5km walk – Enjoy this family friendly scenic walk through the trails of larch hills. \n10km ride – This is a gravel ride that is ideal for the whole family. \n20km ride – This gravel ride will be a perfect fit for those riders looking for a moderate challenge. \n40km ride – This will be a timed ride for all experienced riders. This 40km route boasts big distance and beautiful views!
URL:https://shuswapbike.com/event/ride-dont-hide-2/
LOCATION:Larch Hills\, 300-398 Larch Hills Rd\, Salmon Arm\, BC\, Canada
CATEGORIES:Community Event,Group Rides
END:VEVENT
BEGIN:VEVENT
DTSTART;TZID=America/Vancouver:20260122T190000
DTEND;TZID=America/Vancouver:20260122T213000
DTSTAMP:20260421T014742
CREATED:20251130T182123Z
LAST-MODIFIED:20251130T182123Z
UID:14729-1769108400-1769117400@shuswapbike.com
SUMMARY:Annual General Meeting
DESCRIPTION:January 22\, 2026\, 7pm\nSong Sparrow Hall \nJoin us for the Shuswap Cycling Society’s Annual General Meeting at the Song Sparrow Hall! \nThis is open to all members current with their 2025 Memberships. Not sure if you are up to date? Have a look at the 2025 Confirmation List. \nMovie Night with the SCC \nOnce again this year we will be hosting a movie night for the AGM. Entry is free for members\, beverages will be available for sale. \nAgenda: \n1. Approve agenda \n2. Approve minutes from 2024 AGM \n3. Approve Financial Report \n4. President’s report \n5. Elections \nThere are 6 Director positions up for re-election this year\, and we anticipate 2 of the incumbents will not be seeking re-elections. \nBoard members are elected as Directors at Large to the Board. At the subsequent Board Meeting\, the Executive positions are filled/confirmed. We are looking for anyone that has a passion for cycling and directors are welcome to explore areas that most interest them. However we are specifically looking for people that have interest in planning group rides and member events\, sponsorship and communication\, and potential future leadership positions. If you are thinking you might be interested in helping out\, come on out the AGM and ask questions and find out more! Or get in touch and we would be happy to connect anytime.
URL:https://shuswapbike.com/event/annual-general-meeting-6/
LOCATION:Songsparrow Hall\, 180 Lakeshore Dr NW\, Salmon Arm\, BC\, V1E 4N5\, Canada
CATEGORIES:Club Meeting,Community Event
ATTACH;FMTTYPE=image/png:https://shuswapbike.com/wp-content/uploads/here-to-there.png
END:VEVENT
BEGIN:VEVENT
DTSTART;VALUE=DATE:20260411
DTEND;VALUE=DATE:20260413
DTSTAMP:20260421T014742
CREATED:20260325T031148Z
LAST-MODIFIED:20260325T032501Z
UID:14748-1775908800-1775995199@shuswapbike.com
SUMMARY:Shuswap Summer Gear Swap
DESCRIPTION:If you’re interested in buying and selling gently used outdoor summer recreation gear (think tents\, bikes\, paddles\, hiking packs\, etc.)\, be sure to check out the Shuswap Summer Gear Swap on\nApril 11th at the Gathering Place in Salmon Arm! The swap is a fundraiser for the Mark Corbett Memorial Trail at South Canoe. For more information visit shuswapgearswap.ca. \nDETAILS\nEvent Date: April 11\, 2026 \nEvent Times: \n\n8:00am to 10:30am – Drop off items to sell\n11:00am to 2:00pm – Come and shop!\n2:30pm to 4:00pm – Pick up earnings and unsold items\n\nEvent Location: The Gathering Place\, 350 30 th Street NE\, Salmon Arm \nSale Details: \n\nThere is no fee to attend the event and shop around.\nSellers pay $2 per item to sell at the event. Tell us how much you want to sell the item for. Take home 80% of the sale price for sold items\, and the remaining 20% goes towards our fundraiser.\nPick up unsold items and earnings at the end of the day.\nSkookum Bike & Ski will be on site to help with bike appraisals.\nCash is preferred. Cheque and debit also accepted.\nProceeds will be donated to the Mark Corbett Memorial Flow Trail at South Canoe.
URL:https://shuswapbike.com/event/shuswap-summer-gear-swap/
LOCATION:The Gathering Place\, 350 30th Street NE\, Salmon Arm\, British Columbia\, Canada
CATEGORIES:Community Event
ATTACH;FMTTYPE=image/png:https://shuswapbike.com/wp-content/uploads/logo-1-e1776614806127.png
END:VEVENT
BEGIN:VEVENT
DTSTART;VALUE=DATE:20260510
DTEND;VALUE=DATE:20260512
DTSTAMP:20260421T014742
CREATED:20260420T005510Z
LAST-MODIFIED:20260420T005659Z
UID:14773-1778414400-1778500799@shuswapbike.com
SUMMARY:Salty Dog Enduro
DESCRIPTION:The Salty Dog 6-Hour Enduro is one of the longest running mountain bike races in B.C. Now in its 24th year\, the Salty Dog Enduro is the original Enduro. Ride solo or in a team of 2 for 6 hours on some of the best trails in Salmon Arm\, B.C. \nFor details head to saltydogenduro.com.
URL:https://shuswapbike.com/event/salty-dog-enduro-4/
LOCATION:South Canoe Trails\, 10th Ave SE and 70th St SE\, Salmon Arm\, British Columbia\, V1E 1X8\, Canada
ATTACH;FMTTYPE=image/png:https://shuswapbike.com/wp-content/uploads/7606de25-8ed4-8c08-50ae-514f69e0eced.png
END:VEVENT
BEGIN:VEVENT
DTSTART;VALUE=DATE:20260620
DTEND;VALUE=DATE:20260622
DTSTAMP:20260421T014742
CREATED:20260224T173140Z
LAST-MODIFIED:20260413T173816Z
UID:14736-1781956800-1782043199@shuswapbike.com
SUMMARY:Rubberhead Enduro 2026
DESCRIPTION:Shuswap Cycling Society Rubberhead Enduro\nSaturday\, June 20th\, 2026\n \nOnly $50 for Long Course\, $25 for the Short Course! \nThe Shuswap Cycling Club is excited to be hosting the FIFTH annual Rubberhead Enduro race at the Rubberhead trail network in Salmon Arm. \nThere are short and long course options. The long course will be a 4 stage race on blue and black diamond trails\, 20-30km with a climb of about 1000-1500m. The short course will be a 2 stage race with about 700-1000m of climbing. \nThe Shuswap Cycling Club is a non-profit society and 100% of the proceeds of the race fee will go to the good! We are thankful for the tremendous efforts of the Shuswap Volunteer Search and Rescue team. Thank-you to all our sponsors and the efforts of everyone helping with the Salty Dog Enduro to help keep the costs down for this event. Racers will have access to on-course refreshments and a post-race meal is included in the registration fee. \nAll racers must be members of the Shuswap Cycling Club. \nCosts are $25 per individual or $50 for a family. \nCheck if you are already a member \nJoin or Renew your membership
URL:https://shuswapbike.com/event/rubberhead-enduro-2026/
LOCATION:Rubberhead Parking Lot
CATEGORIES:Races
ATTACH;FMTTYPE=image/jpeg:https://shuswapbike.com/wp-content/uploads/RHOriginal_event-1.jpg
END:VEVENT
END:VCALENDAR