BEGIN:VCALENDAR
VERSION:2.0
PRODID:-//Shuswap Cycling Club - ECPv6.15.20//NONSGML v1.0//EN
CALSCALE:GREGORIAN
METHOD:PUBLISH
X-WR-CALNAME:Shuswap Cycling Club
X-ORIGINAL-URL:https://shuswapbike.com
X-WR-CALDESC:Events for Shuswap Cycling Club
REFRESH-INTERVAL;VALUE=DURATION:PT1H
X-Robots-Tag:noindex
X-PUBLISHED-TTL:PT1H
BEGIN:VTIMEZONE
TZID:America/Vancouver
BEGIN:DAYLIGHT
TZOFFSETFROM:-0800
TZOFFSETTO:-0700
TZNAME:PDT
DTSTART:20230312T100000
END:DAYLIGHT
BEGIN:STANDARD
TZOFFSETFROM:-0700
TZOFFSETTO:-0800
TZNAME:PST
DTSTART:20231105T090000
END:STANDARD
BEGIN:DAYLIGHT
TZOFFSETFROM:-0800
TZOFFSETTO:-0700
TZNAME:PDT
DTSTART:20240310T100000
END:DAYLIGHT
BEGIN:STANDARD
TZOFFSETFROM:-0700
TZOFFSETTO:-0800
TZNAME:PST
DTSTART:20241103T090000
END:STANDARD
BEGIN:DAYLIGHT
TZOFFSETFROM:-0800
TZOFFSETTO:-0700
TZNAME:PDT
DTSTART:20250309T100000
END:DAYLIGHT
BEGIN:STANDARD
TZOFFSETFROM:-0700
TZOFFSETTO:-0800
TZNAME:PST
DTSTART:20251102T090000
END:STANDARD
BEGIN:DAYLIGHT
TZOFFSETFROM:-0800
TZOFFSETTO:-0700
TZNAME:PDT
DTSTART:20260308T100000
END:DAYLIGHT
BEGIN:STANDARD
TZOFFSETFROM:-0700
TZOFFSETTO:-0800
TZNAME:PST
DTSTART:20261101T090000
END:STANDARD
END:VTIMEZONE
BEGIN:VEVENT
DTSTART;TZID=America/Vancouver:20250429T173000
DTEND;TZID=America/Vancouver:20250429T190000
DTSTAMP:20260421T031818
CREATED:20250309T165749Z
LAST-MODIFIED:20250309T165749Z
UID:14511-1745947800-1745953200@shuswapbike.com
SUMMARY:SCC Youth Ride
DESCRIPTION:Participants keep an eye on your email for changes due to weather etc.
URL:https://shuswapbike.com/event/scc-youth-ride-3/
LOCATION:South Canoe Trails\, 10th Ave SE and 70th St SE\, Salmon Arm\, British Columbia\, V1E 1X8\, Canada
CATEGORIES:Group Rides
END:VEVENT
BEGIN:VEVENT
DTSTART;TZID=America/Vancouver:20250422T173000
DTEND;TZID=America/Vancouver:20250422T190000
DTSTAMP:20260421T031818
CREATED:20250309T165546Z
LAST-MODIFIED:20250309T165546Z
UID:14509-1745343000-1745348400@shuswapbike.com
SUMMARY:SCC Youth Ride
DESCRIPTION:Participants keep an eye on your email for changes due to weather etc.
URL:https://shuswapbike.com/event/scc-youth-ride-2/
LOCATION:South Canoe Trails\, 10th Ave SE and 70th St SE\, Salmon Arm\, British Columbia\, V1E 1X8\, Canada
CATEGORIES:Group Rides
END:VEVENT
BEGIN:VEVENT
DTSTART;TZID=America/Vancouver:20250415T173000
DTEND;TZID=America/Vancouver:20250415T190000
DTSTAMP:20260421T031818
CREATED:20250309T165447Z
LAST-MODIFIED:20250309T165701Z
UID:14507-1744738200-1744743600@shuswapbike.com
SUMMARY:SCC Youth Ride
DESCRIPTION:Participants keep an eye on your email for changes due to weather etc.
URL:https://shuswapbike.com/event/scc-youth-ride/
LOCATION:South Canoe Trails\, 10th Ave SE and 70th St SE\, Salmon Arm\, British Columbia\, V1E 1X8\, Canada
CATEGORIES:Group Rides
ATTACH;FMTTYPE=image/jpeg:https://shuswapbike.com/wp-content/uploads/ReeseMalibou_Feature.jpg
END:VEVENT
BEGIN:VEVENT
DTSTART;TZID=America/Vancouver:20250405T090000
DTEND;TZID=America/Vancouver:20250405T130000
DTSTAMP:20260421T031818
CREATED:20250309T171913Z
LAST-MODIFIED:20250309T171913Z
UID:14529-1743843600-1743858000@shuswapbike.com
SUMMARY:South Canoe Voly Day
DESCRIPTION:Buff up the trails in prep for the season and the Salty Dog! \nSign up here. \nThe Shuswap Trail Alliance will be hosting several volunteer trail days throughout the region in the spring of 2025.\n\nAll trail days will be 9am-1pm. Please pack water\, snacks/lunch\, and have appropriate clothing and supplies (good footwear\, hat\, bug spray\, sunblock\, raingear\, etc.) for working outside on the given day. You will receive an email with more event details in the week before the trail day(s) you have signed up for.
URL:https://shuswapbike.com/event/south-canoe-voly-day-6/
LOCATION:South Canoe Trails\, 10th Ave SE and 70th St SE\, Salmon Arm\, British Columbia\, V1E 1X8\, Canada
CATEGORIES:Volunteer Trail Day
ATTACH;FMTTYPE=image/jpeg:https://shuswapbike.com/wp-content/uploads/Trailwork_feature.jpg
END:VEVENT
BEGIN:VEVENT
DTSTART;TZID=America/Vancouver:20250331T080000
DTEND;TZID=America/Vancouver:20250331T170000
DTSTAMP:20260421T031818
CREATED:20250331T224859Z
LAST-MODIFIED:20250331T224859Z
UID:14540-1743408000-1743440400@shuswapbike.com
SUMMARY:South Canoe Trail Day & BBQ
DESCRIPTION:Join the SCC\, Salty Dog team\, and the Shuswap Trail Alliance for a final trail day before the Salty Dog! \nStay tuned for details\, but likely working 10-1pm with a free BBQ to follow.
URL:https://shuswapbike.com/event/south-canoe-trail-day-bbq/
LOCATION:South Canoe Trails\, 10th Ave SE and 70th St SE\, Salmon Arm\, British Columbia\, V1E 1X8\, Canada
CATEGORIES:Volunteer Trail Day
ATTACH;FMTTYPE=image/png:https://shuswapbike.com/wp-content/uploads/TrollBridge_AndreasMeerza_event.png
END:VEVENT
BEGIN:VEVENT
DTSTART;TZID=America/Vancouver:20241212T180000
DTEND;TZID=America/Vancouver:20241212T200000
DTSTAMP:20260421T031818
CREATED:20231228T223055Z
LAST-MODIFIED:20231228T223055Z
UID:13802-1734026400-1734033600@shuswapbike.com
SUMMARY:Board Meeting
DESCRIPTION:
URL:https://shuswapbike.com/event/board-meeting-2024-12-12/
LOCATION:British Columbia
CATEGORIES:Club Meeting
ATTACH;FMTTYPE=image/png:https://shuswapbike.com/wp-content/uploads/scc_trailforks_badge.png
END:VEVENT
BEGIN:VEVENT
DTSTART;TZID=America/Vancouver:20241126T190000
DTEND;TZID=America/Vancouver:20241126T203000
DTSTAMP:20260421T031818
CREATED:20231228T223214Z
LAST-MODIFIED:20231228T223214Z
UID:13804-1732647600-1732653000@shuswapbike.com
SUMMARY:Annual General Meeting 2024
DESCRIPTION:
URL:https://shuswapbike.com/event/annual-general-meeting-2024/
LOCATION:Salmon Arm Rec Centre Downstairs Meeting Room 1\, 2550 10th Avenue NE\, Salmon Arm\, BC\, Canada
CATEGORIES:Club Meeting
ATTACH;FMTTYPE=image/png:https://shuswapbike.com/wp-content/uploads/scc_trailforks_badge.png
END:VEVENT
BEGIN:VEVENT
DTSTART;TZID=America/Vancouver:20241030T180000
DTEND;TZID=America/Vancouver:20241030T200000
DTSTAMP:20260421T031818
CREATED:20240322T181629Z
LAST-MODIFIED:20240322T183439Z
UID:14075-1730311200-1730318400@shuswapbike.com
SUMMARY:MTB Group Ride
DESCRIPTION:SCC mountain bike group rides are here! Join ride leaders and other SCC members for an evening ride. \nRides will most often head out from South Canoe at 6pm. But join our mailing list to get weekly updates! \nParticipants must be Shuswap Cycling Club members. Head over to Zone4 to see your 2024 Membership Status or to Register.
URL:https://shuswapbike.com/event/mtb-group-ride-2024-10-30/
LOCATION:South Canoe Trails\, 10th Ave SE and 70th St SE\, Salmon Arm\, British Columbia\, V1E 1X8\, Canada
CATEGORIES:Group Rides
ATTACH;FMTTYPE=image/png:https://shuswapbike.com/wp-content/uploads/here-to-there.png
END:VEVENT
BEGIN:VEVENT
DTSTART;TZID=America/Vancouver:20241023T180000
DTEND;TZID=America/Vancouver:20241023T200000
DTSTAMP:20260421T031818
CREATED:20240322T181629Z
LAST-MODIFIED:20240322T183439Z
UID:14074-1729706400-1729713600@shuswapbike.com
SUMMARY:MTB Group Ride
DESCRIPTION:SCC mountain bike group rides are here! Join ride leaders and other SCC members for an evening ride. \nRides will most often head out from South Canoe at 6pm. But join our mailing list to get weekly updates! \nParticipants must be Shuswap Cycling Club members. Head over to Zone4 to see your 2024 Membership Status or to Register.
URL:https://shuswapbike.com/event/mtb-group-ride-2024-10-23/
LOCATION:South Canoe Trails\, 10th Ave SE and 70th St SE\, Salmon Arm\, British Columbia\, V1E 1X8\, Canada
CATEGORIES:Group Rides
ATTACH;FMTTYPE=image/png:https://shuswapbike.com/wp-content/uploads/here-to-there.png
END:VEVENT
BEGIN:VEVENT
DTSTART;TZID=America/Vancouver:20241022T180000
DTEND;TZID=America/Vancouver:20241022T200000
DTSTAMP:20260421T031818
CREATED:20231228T223055Z
LAST-MODIFIED:20231228T223055Z
UID:13801-1729620000-1729627200@shuswapbike.com
SUMMARY:Board Meeting
DESCRIPTION:
URL:https://shuswapbike.com/event/board-meeting-2024-10-22/
LOCATION:British Columbia
CATEGORIES:Club Meeting
ATTACH;FMTTYPE=image/png:https://shuswapbike.com/wp-content/uploads/scc_trailforks_badge.png
END:VEVENT
BEGIN:VEVENT
DTSTART;TZID=America/Vancouver:20241016T180000
DTEND;TZID=America/Vancouver:20241016T200000
DTSTAMP:20260421T031818
CREATED:20240322T181629Z
LAST-MODIFIED:20240322T183439Z
UID:14073-1729101600-1729108800@shuswapbike.com
SUMMARY:MTB Group Ride
DESCRIPTION:SCC mountain bike group rides are here! Join ride leaders and other SCC members for an evening ride. \nRides will most often head out from South Canoe at 6pm. But join our mailing list to get weekly updates! \nParticipants must be Shuswap Cycling Club members. Head over to Zone4 to see your 2024 Membership Status or to Register.
URL:https://shuswapbike.com/event/mtb-group-ride-2024-10-16/
LOCATION:South Canoe Trails\, 10th Ave SE and 70th St SE\, Salmon Arm\, British Columbia\, V1E 1X8\, Canada
CATEGORIES:Group Rides
ATTACH;FMTTYPE=image/png:https://shuswapbike.com/wp-content/uploads/here-to-there.png
END:VEVENT
BEGIN:VEVENT
DTSTART;TZID=America/Vancouver:20241009T180000
DTEND;TZID=America/Vancouver:20241009T200000
DTSTAMP:20260421T031818
CREATED:20240322T181629Z
LAST-MODIFIED:20240322T183438Z
UID:14072-1728496800-1728504000@shuswapbike.com
SUMMARY:MTB Group Ride
DESCRIPTION:SCC mountain bike group rides are here! Join ride leaders and other SCC members for an evening ride. \nRides will most often head out from South Canoe at 6pm. But join our mailing list to get weekly updates! \nParticipants must be Shuswap Cycling Club members. Head over to Zone4 to see your 2024 Membership Status or to Register.
URL:https://shuswapbike.com/event/mtb-group-ride-2024-10-09/
LOCATION:South Canoe Trails\, 10th Ave SE and 70th St SE\, Salmon Arm\, British Columbia\, V1E 1X8\, Canada
CATEGORIES:Group Rides
ATTACH;FMTTYPE=image/png:https://shuswapbike.com/wp-content/uploads/here-to-there.png
END:VEVENT
BEGIN:VEVENT
DTSTART;TZID=America/Vancouver:20241002T180000
DTEND;TZID=America/Vancouver:20241002T200000
DTSTAMP:20260421T031818
CREATED:20240322T181629Z
LAST-MODIFIED:20240322T183438Z
UID:14071-1727892000-1727899200@shuswapbike.com
SUMMARY:MTB Group Ride
DESCRIPTION:SCC mountain bike group rides are here! Join ride leaders and other SCC members for an evening ride. \nRides will most often head out from South Canoe at 6pm. But join our mailing list to get weekly updates! \nParticipants must be Shuswap Cycling Club members. Head over to Zone4 to see your 2024 Membership Status or to Register.
URL:https://shuswapbike.com/event/mtb-group-ride-2024-10-02/
LOCATION:South Canoe Trails\, 10th Ave SE and 70th St SE\, Salmon Arm\, British Columbia\, V1E 1X8\, Canada
CATEGORIES:Group Rides
ATTACH;FMTTYPE=image/png:https://shuswapbike.com/wp-content/uploads/here-to-there.png
END:VEVENT
BEGIN:VEVENT
DTSTART;TZID=America/Vancouver:20240930T180000
DTEND;TZID=America/Vancouver:20240930T200000
DTSTAMP:20260421T031818
CREATED:20240407T150613Z
LAST-MODIFIED:20240407T150613Z
UID:14424-1727719200-1727726400@shuswapbike.com
SUMMARY:Ladies Social Mtb Ride
DESCRIPTION:Ladies Social Mountain Bike Ride. Intermediate rides on mostly blue trails\, casual and social! \nParticipants must be members of the SCC. \nCheck your membership status \nJoin or Renew
URL:https://shuswapbike.com/event/ladies-social-mtb-ride-2024-09-30/
LOCATION:South Canoe Trails\, 10th Ave SE and 70th St SE\, Salmon Arm\, British Columbia\, V1E 1X8\, Canada
CATEGORIES:Group Rides
ATTACH;FMTTYPE=image/jpeg:https://shuswapbike.com/wp-content/uploads/ladies.jpg
END:VEVENT
BEGIN:VEVENT
DTSTART;TZID=America/Vancouver:20240930T180000
DTEND;TZID=America/Vancouver:20240930T200000
DTSTAMP:20260421T031818
CREATED:20240407T145818Z
LAST-MODIFIED:20240528T154325Z
UID:14216-1727719200-1727726400@shuswapbike.com
SUMMARY:Rubberhead Voly Night
DESCRIPTION:Rubberhead Voly Nights are back! Meet at 6pm at the Rubberhead Parking lot. Work until around 8pm. \nWe send out a sign-up form in our members newsletters. If you are interested in coming out\, fill that out. This helps with planning for tools and volunteer hour tracking. See you there!
URL:https://shuswapbike.com/event/rubberhead-voly-night-2024-09-30/
LOCATION:Rubberhead Parking Lot
CATEGORIES:Volunteer Trail Day
ATTACH;FMTTYPE=image/png:https://shuswapbike.com/wp-content/uploads/thirstybeaver.png
END:VEVENT
BEGIN:VEVENT
DTSTART;VALUE=DATE:20240929
DTEND;VALUE=DATE:20241001
DTSTAMP:20260421T031818
CREATED:20240407T151354Z
LAST-MODIFIED:20240407T151757Z
UID:14375-1727611200-1727697599@shuswapbike.com
SUMMARY:Social Road Rides
DESCRIPTION:Weather dependent\, meet in the square between Askews and SASCU. \nCheck your membership status \nJoin or Renew
URL:https://shuswapbike.com/event/social-road-rides-2024-09-29/
LOCATION:Askews Uptown\, 2701 11th Ave NE\, Salmon Arm\, BC\, V1E 2S3 \, Canada
CATEGORIES:Group Rides
ATTACH;FMTTYPE=image/jpeg:https://shuswapbike.com/wp-content/uploads/road_feature.jpg
END:VEVENT
BEGIN:VEVENT
DTSTART;TZID=America/Vancouver:20240925T180000
DTEND;TZID=America/Vancouver:20240925T200000
DTSTAMP:20260421T031818
CREATED:20240322T181629Z
LAST-MODIFIED:20240322T183438Z
UID:14070-1727287200-1727294400@shuswapbike.com
SUMMARY:MTB Group Ride
DESCRIPTION:SCC mountain bike group rides are here! Join ride leaders and other SCC members for an evening ride. \nRides will most often head out from South Canoe at 6pm. But join our mailing list to get weekly updates! \nParticipants must be Shuswap Cycling Club members. Head over to Zone4 to see your 2024 Membership Status or to Register.
URL:https://shuswapbike.com/event/mtb-group-ride-2024-09-25/
LOCATION:South Canoe Trails\, 10th Ave SE and 70th St SE\, Salmon Arm\, British Columbia\, V1E 1X8\, Canada
CATEGORIES:Group Rides
ATTACH;FMTTYPE=image/png:https://shuswapbike.com/wp-content/uploads/here-to-there.png
END:VEVENT
BEGIN:VEVENT
DTSTART;TZID=America/Vancouver:20240923T180000
DTEND;TZID=America/Vancouver:20240923T200000
DTSTAMP:20260421T031818
CREATED:20240407T150613Z
LAST-MODIFIED:20240407T150613Z
UID:14423-1727114400-1727121600@shuswapbike.com
SUMMARY:Ladies Social Mtb Ride
DESCRIPTION:Ladies Social Mountain Bike Ride. Intermediate rides on mostly blue trails\, casual and social! \nParticipants must be members of the SCC. \nCheck your membership status \nJoin or Renew
URL:https://shuswapbike.com/event/ladies-social-mtb-ride-2024-09-23/
LOCATION:South Canoe Trails\, 10th Ave SE and 70th St SE\, Salmon Arm\, British Columbia\, V1E 1X8\, Canada
CATEGORIES:Group Rides
ATTACH;FMTTYPE=image/jpeg:https://shuswapbike.com/wp-content/uploads/ladies.jpg
END:VEVENT
BEGIN:VEVENT
DTSTART;TZID=America/Vancouver:20240923T180000
DTEND;TZID=America/Vancouver:20240923T200000
DTSTAMP:20260421T031818
CREATED:20240407T145818Z
LAST-MODIFIED:20240528T154325Z
UID:14215-1727114400-1727121600@shuswapbike.com
SUMMARY:Rubberhead Voly Night
DESCRIPTION:Rubberhead Voly Nights are back! Meet at 6pm at the Rubberhead Parking lot. Work until around 8pm. \nWe send out a sign-up form in our members newsletters. If you are interested in coming out\, fill that out. This helps with planning for tools and volunteer hour tracking. See you there!
URL:https://shuswapbike.com/event/rubberhead-voly-night-2024-09-23/
LOCATION:Rubberhead Parking Lot
CATEGORIES:Volunteer Trail Day
ATTACH;FMTTYPE=image/png:https://shuswapbike.com/wp-content/uploads/thirstybeaver.png
END:VEVENT
BEGIN:VEVENT
DTSTART;VALUE=DATE:20240922
DTEND;VALUE=DATE:20240924
DTSTAMP:20260421T031818
CREATED:20240407T151354Z
LAST-MODIFIED:20240407T151757Z
UID:14374-1727006400-1727092799@shuswapbike.com
SUMMARY:Social Road Rides
DESCRIPTION:Weather dependent\, meet in the square between Askews and SASCU. \nCheck your membership status \nJoin or Renew
URL:https://shuswapbike.com/event/social-road-rides-2024-09-22/
LOCATION:Askews Uptown\, 2701 11th Ave NE\, Salmon Arm\, BC\, V1E 2S3 \, Canada
CATEGORIES:Group Rides
ATTACH;FMTTYPE=image/jpeg:https://shuswapbike.com/wp-content/uploads/road_feature.jpg
END:VEVENT
BEGIN:VEVENT
DTSTART;TZID=America/Vancouver:20240918T180000
DTEND;TZID=America/Vancouver:20240918T200000
DTSTAMP:20260421T031818
CREATED:20240322T181629Z
LAST-MODIFIED:20240322T183438Z
UID:14069-1726682400-1726689600@shuswapbike.com
SUMMARY:MTB Group Ride
DESCRIPTION:SCC mountain bike group rides are here! Join ride leaders and other SCC members for an evening ride. \nRides will most often head out from South Canoe at 6pm. But join our mailing list to get weekly updates! \nParticipants must be Shuswap Cycling Club members. Head over to Zone4 to see your 2024 Membership Status or to Register.
URL:https://shuswapbike.com/event/mtb-group-ride-2024-09-18/
LOCATION:South Canoe Trails\, 10th Ave SE and 70th St SE\, Salmon Arm\, British Columbia\, V1E 1X8\, Canada
CATEGORIES:Group Rides
ATTACH;FMTTYPE=image/png:https://shuswapbike.com/wp-content/uploads/here-to-there.png
END:VEVENT
BEGIN:VEVENT
DTSTART;TZID=America/Vancouver:20240916T180000
DTEND;TZID=America/Vancouver:20240916T200000
DTSTAMP:20260421T031818
CREATED:20240407T150613Z
LAST-MODIFIED:20240407T150613Z
UID:14422-1726509600-1726516800@shuswapbike.com
SUMMARY:Ladies Social Mtb Ride
DESCRIPTION:Ladies Social Mountain Bike Ride. Intermediate rides on mostly blue trails\, casual and social! \nParticipants must be members of the SCC. \nCheck your membership status \nJoin or Renew
URL:https://shuswapbike.com/event/ladies-social-mtb-ride-2024-09-16/
LOCATION:South Canoe Trails\, 10th Ave SE and 70th St SE\, Salmon Arm\, British Columbia\, V1E 1X8\, Canada
CATEGORIES:Group Rides
ATTACH;FMTTYPE=image/jpeg:https://shuswapbike.com/wp-content/uploads/ladies.jpg
END:VEVENT
BEGIN:VEVENT
DTSTART;TZID=America/Vancouver:20240916T180000
DTEND;TZID=America/Vancouver:20240916T200000
DTSTAMP:20260421T031818
CREATED:20240407T145818Z
LAST-MODIFIED:20240528T154325Z
UID:14214-1726509600-1726516800@shuswapbike.com
SUMMARY:Rubberhead Voly Night
DESCRIPTION:Rubberhead Voly Nights are back! Meet at 6pm at the Rubberhead Parking lot. Work until around 8pm. \nWe send out a sign-up form in our members newsletters. If you are interested in coming out\, fill that out. This helps with planning for tools and volunteer hour tracking. See you there!
URL:https://shuswapbike.com/event/rubberhead-voly-night-2024-09-16/
LOCATION:Rubberhead Parking Lot
CATEGORIES:Volunteer Trail Day
ATTACH;FMTTYPE=image/png:https://shuswapbike.com/wp-content/uploads/thirstybeaver.png
END:VEVENT
BEGIN:VEVENT
DTSTART;VALUE=DATE:20240915
DTEND;VALUE=DATE:20240917
DTSTAMP:20260421T031818
CREATED:20240407T151354Z
LAST-MODIFIED:20240407T151756Z
UID:14373-1726401600-1726487999@shuswapbike.com
SUMMARY:Social Road Rides
DESCRIPTION:Weather dependent\, meet in the square between Askews and SASCU. \nCheck your membership status \nJoin or Renew
URL:https://shuswapbike.com/event/social-road-rides-2024-09-15/
LOCATION:Askews Uptown\, 2701 11th Ave NE\, Salmon Arm\, BC\, V1E 2S3 \, Canada
CATEGORIES:Group Rides
ATTACH;FMTTYPE=image/jpeg:https://shuswapbike.com/wp-content/uploads/road_feature.jpg
END:VEVENT
BEGIN:VEVENT
DTSTART;TZID=America/Vancouver:20240911T180000
DTEND;TZID=America/Vancouver:20240911T200000
DTSTAMP:20260421T031818
CREATED:20240322T181629Z
LAST-MODIFIED:20240322T183438Z
UID:14068-1726077600-1726084800@shuswapbike.com
SUMMARY:MTB Group Ride
DESCRIPTION:SCC mountain bike group rides are here! Join ride leaders and other SCC members for an evening ride. \nRides will most often head out from South Canoe at 6pm. But join our mailing list to get weekly updates! \nParticipants must be Shuswap Cycling Club members. Head over to Zone4 to see your 2024 Membership Status or to Register.
URL:https://shuswapbike.com/event/mtb-group-ride-2024-09-11/
LOCATION:South Canoe Trails\, 10th Ave SE and 70th St SE\, Salmon Arm\, British Columbia\, V1E 1X8\, Canada
CATEGORIES:Group Rides
ATTACH;FMTTYPE=image/png:https://shuswapbike.com/wp-content/uploads/here-to-there.png
END:VEVENT
BEGIN:VEVENT
DTSTART;VALUE=DATE:20240911
DTEND;VALUE=DATE:20240916
DTSTAMP:20260421T031818
CREATED:20231231T191942Z
LAST-MODIFIED:20231231T191942Z
UID:13851-1726056000-1726401599@shuswapbike.com
SUMMARY:55+ Games
DESCRIPTION:Salmon Arm is hosting the 2024 55+ Games. There will be road\, mountain bike\, and triathlon events.
URL:https://shuswapbike.com/event/55-games/
LOCATION:British Columbia
CATEGORIES:Community Event,Races
END:VEVENT
BEGIN:VEVENT
DTSTART;TZID=America/Vancouver:20240909T180000
DTEND;TZID=America/Vancouver:20240909T200000
DTSTAMP:20260421T031818
CREATED:20240407T150613Z
LAST-MODIFIED:20240407T150613Z
UID:14421-1725904800-1725912000@shuswapbike.com
SUMMARY:Ladies Social Mtb Ride
DESCRIPTION:Ladies Social Mountain Bike Ride. Intermediate rides on mostly blue trails\, casual and social! \nParticipants must be members of the SCC. \nCheck your membership status \nJoin or Renew
URL:https://shuswapbike.com/event/ladies-social-mtb-ride-2024-09-09/
LOCATION:South Canoe Trails\, 10th Ave SE and 70th St SE\, Salmon Arm\, British Columbia\, V1E 1X8\, Canada
CATEGORIES:Group Rides
ATTACH;FMTTYPE=image/jpeg:https://shuswapbike.com/wp-content/uploads/ladies.jpg
END:VEVENT
BEGIN:VEVENT
DTSTART;TZID=America/Vancouver:20240909T180000
DTEND;TZID=America/Vancouver:20240909T200000
DTSTAMP:20260421T031818
CREATED:20240407T145818Z
LAST-MODIFIED:20240528T154325Z
UID:14213-1725904800-1725912000@shuswapbike.com
SUMMARY:Rubberhead Voly Night
DESCRIPTION:Rubberhead Voly Nights are back! Meet at 6pm at the Rubberhead Parking lot. Work until around 8pm. \nWe send out a sign-up form in our members newsletters. If you are interested in coming out\, fill that out. This helps with planning for tools and volunteer hour tracking. See you there!
URL:https://shuswapbike.com/event/rubberhead-voly-night-2024-09-09/
LOCATION:Rubberhead Parking Lot
CATEGORIES:Volunteer Trail Day
ATTACH;FMTTYPE=image/png:https://shuswapbike.com/wp-content/uploads/thirstybeaver.png
END:VEVENT
BEGIN:VEVENT
DTSTART;VALUE=DATE:20240908
DTEND;VALUE=DATE:20240910
DTSTAMP:20260421T031818
CREATED:20240407T151354Z
LAST-MODIFIED:20240407T151756Z
UID:14372-1725796800-1725883199@shuswapbike.com
SUMMARY:Social Road Rides
DESCRIPTION:Weather dependent\, meet in the square between Askews and SASCU. \nCheck your membership status \nJoin or Renew
URL:https://shuswapbike.com/event/social-road-rides-2024-09-08/
LOCATION:Askews Uptown\, 2701 11th Ave NE\, Salmon Arm\, BC\, V1E 2S3 \, Canada
CATEGORIES:Group Rides
ATTACH;FMTTYPE=image/jpeg:https://shuswapbike.com/wp-content/uploads/road_feature.jpg
END:VEVENT
BEGIN:VEVENT
DTSTART;TZID=America/Vancouver:20240904T180000
DTEND;TZID=America/Vancouver:20240904T200000
DTSTAMP:20260421T031818
CREATED:20240322T181629Z
LAST-MODIFIED:20240322T183438Z
UID:14067-1725472800-1725480000@shuswapbike.com
SUMMARY:MTB Group Ride
DESCRIPTION:SCC mountain bike group rides are here! Join ride leaders and other SCC members for an evening ride. \nRides will most often head out from South Canoe at 6pm. But join our mailing list to get weekly updates! \nParticipants must be Shuswap Cycling Club members. Head over to Zone4 to see your 2024 Membership Status or to Register.
URL:https://shuswapbike.com/event/mtb-group-ride-2024-09-04/
LOCATION:South Canoe Trails\, 10th Ave SE and 70th St SE\, Salmon Arm\, British Columbia\, V1E 1X8\, Canada
CATEGORIES:Group Rides
ATTACH;FMTTYPE=image/png:https://shuswapbike.com/wp-content/uploads/here-to-there.png
END:VEVENT
END:VCALENDAR