BEGIN:VCALENDAR
VERSION:2.0
PRODID:-//Shuswap Cycling Club - ECPv6.15.20//NONSGML v1.0//EN
CALSCALE:GREGORIAN
METHOD:PUBLISH
X-WR-CALNAME:Shuswap Cycling Club
X-ORIGINAL-URL:https://shuswapbike.com
X-WR-CALDESC:Events for Shuswap Cycling Club
REFRESH-INTERVAL;VALUE=DURATION:PT1H
X-Robots-Tag:noindex
X-PUBLISHED-TTL:PT1H
BEGIN:VTIMEZONE
TZID:America/Vancouver
BEGIN:DAYLIGHT
TZOFFSETFROM:-0800
TZOFFSETTO:-0700
TZNAME:PDT
DTSTART:20130310T100000
END:DAYLIGHT
BEGIN:STANDARD
TZOFFSETFROM:-0700
TZOFFSETTO:-0800
TZNAME:PST
DTSTART:20131103T090000
END:STANDARD
BEGIN:DAYLIGHT
TZOFFSETFROM:-0800
TZOFFSETTO:-0700
TZNAME:PDT
DTSTART:20140309T100000
END:DAYLIGHT
BEGIN:STANDARD
TZOFFSETFROM:-0700
TZOFFSETTO:-0800
TZNAME:PST
DTSTART:20141102T090000
END:STANDARD
BEGIN:DAYLIGHT
TZOFFSETFROM:-0800
TZOFFSETTO:-0700
TZNAME:PDT
DTSTART:20150308T100000
END:DAYLIGHT
BEGIN:STANDARD
TZOFFSETFROM:-0700
TZOFFSETTO:-0800
TZNAME:PST
DTSTART:20151101T090000
END:STANDARD
BEGIN:DAYLIGHT
TZOFFSETFROM:-0800
TZOFFSETTO:-0700
TZNAME:PDT
DTSTART:20160313T100000
END:DAYLIGHT
BEGIN:STANDARD
TZOFFSETFROM:-0700
TZOFFSETTO:-0800
TZNAME:PST
DTSTART:20161106T090000
END:STANDARD
BEGIN:DAYLIGHT
TZOFFSETFROM:-0800
TZOFFSETTO:-0700
TZNAME:PDT
DTSTART:20170312T100000
END:DAYLIGHT
BEGIN:STANDARD
TZOFFSETFROM:-0700
TZOFFSETTO:-0800
TZNAME:PST
DTSTART:20171105T090000
END:STANDARD
BEGIN:DAYLIGHT
TZOFFSETFROM:-0800
TZOFFSETTO:-0700
TZNAME:PDT
DTSTART:20180311T100000
END:DAYLIGHT
BEGIN:STANDARD
TZOFFSETFROM:-0700
TZOFFSETTO:-0800
TZNAME:PST
DTSTART:20181104T090000
END:STANDARD
BEGIN:DAYLIGHT
TZOFFSETFROM:-0800
TZOFFSETTO:-0700
TZNAME:PDT
DTSTART:20190310T100000
END:DAYLIGHT
BEGIN:STANDARD
TZOFFSETFROM:-0700
TZOFFSETTO:-0800
TZNAME:PST
DTSTART:20191103T090000
END:STANDARD
BEGIN:DAYLIGHT
TZOFFSETFROM:-0800
TZOFFSETTO:-0700
TZNAME:PDT
DTSTART:20200308T100000
END:DAYLIGHT
BEGIN:STANDARD
TZOFFSETFROM:-0700
TZOFFSETTO:-0800
TZNAME:PST
DTSTART:20201101T090000
END:STANDARD
END:VTIMEZONE
BEGIN:VEVENT
DTSTART;TZID=America/Vancouver:20190621T180000
DTEND;TZID=America/Vancouver:20190621T210000
DTSTAMP:20260421T111543
CREATED:20190525T160419Z
LAST-MODIFIED:20190527T200308Z
UID:3492-1561140000-1561150800@shuswapbike.com
SUMMARY:Return To Earth - Movie Night with the SCC
DESCRIPTION:Join the Shuswap Cycling Club Friday\, June 21st\, at the Salmar Classic\, for our 2nd annual Movie Night. \nThis year we are proud to present the latest from Anthill Films\, Return To Earth. \nTickets are $15\, available at the door\, or available in advance at Skookum Cycles. Or email us and we can get some to you. \nDoors open at 6:00 PM\, Showtime at 6:30 PM. \nWe will have a short film to get us fired up before the main event\, there will be beers/wine for sale\, and great draw prizes at the intermission. \nThanks to Shuswap Tourism for helping put this on!
URL:https://shuswapbike.com/event/return-to-earth-movie-night-with-the-scc/
LOCATION:Salmar Classic\, 360 Alexander Street\, Salmon Arm\, BC\, V1E 4N5\, Canada
CATEGORIES:Awesome,Community Event
ATTACH;FMTTYPE=image/jpeg:https://shuswapbike.com/wp-content/uploads/RTE_event.jpg
END:VEVENT
BEGIN:VEVENT
DTSTART;TZID=America/Vancouver:20190404T160000
DTEND;TZID=America/Vancouver:20190404T190000
DTSTAMP:20260421T111543
CREATED:20190315T015531Z
LAST-MODIFIED:20190315T015531Z
UID:3195-1554393600-1554404400@shuswapbike.com
SUMMARY:Membership Drive at Skookum
DESCRIPTION:Annual membership drive at Skookum. Come down for a hot dog and brewski\, chat about the upcoming season and get generally fired up for spring!
URL:https://shuswapbike.com/event/membership-drive-at-skookum/
LOCATION:Skookum Bike and Ski\, 141 Shuswap St. NE\, Salmon Arm\, BC\, Canada
CATEGORIES:Awesome
ATTACH;FMTTYPE=image/png:https://shuswapbike.com/wp-content/uploads/PedalAndPint-1.png
END:VEVENT
BEGIN:VEVENT
DTSTART;TZID=America/Vancouver:20180403T170000
DTEND;TZID=America/Vancouver:20180403T190000
DTSTAMP:20260421T111543
CREATED:20180307T011947Z
LAST-MODIFIED:20180403T174441Z
UID:2459-1522774800-1522782000@shuswapbike.com
SUMMARY:Shuswap Cycling Club Membership Party
DESCRIPTION:Come join us at Skookum Cycle and Ski for our membership party!\nApril 3rd The Shuswap Cycling Club and Skookum are teaming up celebrate spring’s arrival and get excited about cycling in the Shuswap in 2018. \n\nMembership sign-ups\nTicket Sales for screening of The Moment – May 25\nNew SCC t-shirts on sale\nHot Dog’s by donation\nBeer $5\n\nSign up at home and grab your membership card and dog at the shop. \nSupport the Shuswap Cycling Club and get your membership to the club. Monies raised at the event will help the club with such items as Rubberhead trail maintenance and trail building\, development of a BMX track\, purchase of equipment to better assist in trail maintenance\, and much more! \nCome out and learn about all the fun events that will be happening in our community.
URL:https://shuswapbike.com/event/shuswap-cycling-club-membership-drive/
LOCATION:Skookum Bike and Ski\, 141 Shuswap St. NE\, Salmon Arm\, BC\, Canada
CATEGORIES:Awesome
ATTACH;FMTTYPE=image/jpeg:https://shuswapbike.com/wp-content/uploads/handlebar_logo_event.jpg
END:VEVENT
BEGIN:VEVENT
DTSTART;TZID=America/Vancouver:20170804T080000
DTEND;TZID=America/Vancouver:20170804T170000
DTSTAMP:20260421T111543
CREATED:20170804T180110Z
LAST-MODIFIED:20170804T180110Z
UID:2039-1501833600-1501866000@shuswapbike.com
SUMMARY:Salmon Arm Bike for Your Life Century
DESCRIPTION:An Invitation to Shuswap Cycling Club members: \nWe all love cycling in the Shuswap! You are invited to join in the fun of the Saturday\, Sept. 16 Salmon Arm Bike for Your Life Century Ride – Salmon Arm’s Community Bike Ride since 1998. \nChoose one of four local scenic routes: 10K\, 35K\, 75K or 100K. Each route will be well marked with Aid Stations\, Mobile First Aid\, friendly Volunteers\, a Shuswap Lady Striders hosted BBQ Lunch at Blackburn Park\, local Musicians and draw prizes. \nRegistration is quick and easy here. $30/Adult\, $50/Family\, Children under 18 years: $5.  Profits from this “all volunteers” fun and affordable event support the Second Harvest Food Bank and the Shuswap Trail Alliance: $24\,000 since 2012. \nSat.\, Sept. 16 Bike for Your Life – Volunteer Help Wanted: \n\nBlackburn Park Venue set up on Sept. 16: 6 a.m. – 7:30 a.m. and take down: 3 p.m. – 4:30 p.m. Contact: Pat Danforth – danforthpat@gmail.com (set up/takedown pop-up awnings\, tables & chairs placed\, help move other gear)\nCourse Marshalls on routes on Sept. 16: – details to be confirmed. Contact: Roger Beardmore –  beardmore@telus.net (after Aug. 18)\nFinish Line Celebration on Sept. 16 – two\, 2.5 hours shifts: 9:30 ‘til 12 noon or 12 noon to 2:30 p.m. suggested. Contact: Pat Danforth – danforthpat@gmail.com (cheer on cyclists as they arrive back from their ride!)\nTruck & Trailer in-town equipment pick up and storage: Wed.\, Sept. 13  (e.g. pop-up awnings) for delivery to Blackburn Park Venue at 6 a.m. on Sat.\, Sept. 16 and return post–ride around 3 p.m.Contact: Pat Danforth – danforthpat@gmail.com\nSeeking musicians or other entertainment on Sept. 16 for 1 to 1 1/2 hour slots from 11:00 to 3:00. Contact: Pat Danforth – danforthpat@gmail.com\nRoute signs and bollards post ride pick up Sept. 16: 3 p.m. to 5:00 p.m. Contact: Roger Beardmore –  beardmore@telus.net (after Aug. 18) (4 routes to cover with pickup truck or car with trailer.\n\nGeorge – Ride 2017 chair and event publicity coordinator\n250-832-9335
URL:https://shuswapbike.com/event/salmon-arm-bike-for-your-life-century/
LOCATION:BC
CATEGORIES:Awesome,Community Event,Group Rides,Races
END:VEVENT
BEGIN:VEVENT
DTSTART;TZID=America/Vancouver:20140530T150000
DTEND;TZID=America/Vancouver:20140530T180000
DTSTAMP:20260421T111543
CREATED:20140529T165903Z
LAST-MODIFIED:20140529T165903Z
UID:649-1401462000-1401472800@shuswapbike.com
SUMMARY:Bike To Work Week Celebration & Final BBQ
DESCRIPTION:Bike To Work Week Celebration & Final BBQ\nFriday\, May 30\, 2014\nRoss Street Stage 3:00pm – 6:00pm\nDraws\, Prizes\, Entertainment.\nKid’s draw for Shuswap Challenge at 4:00 pm\nSee you there! Come enjoy what downtown Salmon Arm has to offer!
URL:https://shuswapbike.com/event/bike-to-work-week-celebration-final-bbq/
LOCATION:Ross Street Stage
CATEGORIES:Awesome
END:VEVENT
BEGIN:VEVENT
DTSTART;VALUE=DATE:20140518
DTEND;VALUE=DATE:20140519
DTSTAMP:20260421T111543
CREATED:20140513T200816Z
LAST-MODIFIED:20140513T201233Z
UID:586-1400371200-1400457599@shuswapbike.com
SUMMARY:Ridetech Demo Day
DESCRIPTION:Test ride some new specialized bikes at the south canoe trails! \nPlease call Chris at Ridetech (250) 832-9811for information.
URL:https://shuswapbike.com/event/ridetech-demo-days/
LOCATION:South Canoe Trails\, 10th Ave SE and 70th St SE\, Salmon Arm\, British Columbia\, V1E 1X8\, Canada
CATEGORIES:Awesome
END:VEVENT
END:VCALENDAR